BEGIN:VCALENDAR
VERSION:2.0
PRODID:-//Keoki&#039;s Paradise - ECPv6.15.5//NONSGML v1.0//EN
CALSCALE:GREGORIAN
METHOD:PUBLISH
X-ORIGINAL-URL:https://www.keokisparadise.com
X-WR-CALDESC:Events for Keoki&#039;s Paradise
REFRESH-INTERVAL;VALUE=DURATION:PT1H
X-Robots-Tag:noindex
X-PUBLISHED-TTL:PT1H
BEGIN:VTIMEZONE
TZID:Pacific/Honolulu
BEGIN:STANDARD
TZOFFSETFROM:-1000
TZOFFSETTO:-1000
TZNAME:HST
DTSTART:20190101T000000
END:STANDARD
END:VTIMEZONE
BEGIN:VEVENT
DTSTART;TZID=Pacific/Honolulu:20190808T164500
DTEND;TZID=Pacific/Honolulu:20190808T220000
DTSTAMP:20260420T224025
CREATED:20190626T164730Z
LAST-MODIFIED:20190626T164813Z
UID:3278-1565282700-1565301600@www.keokisparadise.com
SUMMARY:Dine Out For Hunger
DESCRIPTION:Join us on August 8th for the 12th Annual Dine Out For Hunger event\, which benefits the Kauai Independent Food Bank. We will be donating 10% of our food sales in the Dining Room from 4:45pm-close! \nClick here to learn more about the Kauai Independent Food Bank.
URL:https://www.keokisparadise.com/event/dine-out-for-hunger-2/
LOCATION:2335 Kalakaua Ave #203\, Honolulu\, HI\, 96815\, United States
CATEGORIES:Community Events
ATTACH;FMTTYPE=image/jpeg:https://www.keokisparadise.com/wp-content/uploads/2019/06/KP_Roadshow_Highlights_Web-7683.jpg
GEO:21.2771844;-157.8275909
X-APPLE-STRUCTURED-LOCATION;VALUE=URI;X-ADDRESS=2335 Kalakaua Ave #203 Honolulu HI 96815 United States;X-APPLE-RADIUS=500;X-TITLE=2335 Kalakaua Ave #203:geo:-157.8275909,21.2771844
END:VEVENT
END:VCALENDAR