BEGIN:VCALENDAR
VERSION:2.0
PRODID:-//Keoki&#039;s Paradise - ECPv6.15.5//NONSGML v1.0//EN
CALSCALE:GREGORIAN
METHOD:PUBLISH
X-WR-CALNAME:Keoki&#039;s Paradise
X-ORIGINAL-URL:https://www.keokisparadise.com
X-WR-CALDESC:Events for Keoki&#039;s Paradise
REFRESH-INTERVAL;VALUE=DURATION:PT1H
X-Robots-Tag:noindex
X-PUBLISHED-TTL:PT1H
BEGIN:VTIMEZONE
TZID:Pacific/Honolulu
BEGIN:STANDARD
TZOFFSETFROM:-1000
TZOFFSETTO:-1000
TZNAME:HST
DTSTART:20220101T000000
END:STANDARD
END:VTIMEZONE
BEGIN:VEVENT
DTSTART;TZID=Pacific/Honolulu:20220817T110000
DTEND;TZID=Pacific/Honolulu:20220817T130000
DTSTAMP:20260422T004019
CREATED:20220613T212056Z
LAST-MODIFIED:20220714T172120Z
UID:5837-1660734000-1660741200@www.keokisparadise.com
SUMMARY:Protect\, Manage\, and Conserve Our Aquatic Resources
DESCRIPTION:Learn about the work the Department of Aquatic Resources has undertaken on Kaua‘i to respond to community concerns about the health and status of our precious aquatic resources. \nEvery culture around the world has its own way of sharing information. Here in Hawai’i\, we share informally by “talking story” — slowing down and taking time to explore ideas\, stories\, opinions\, and history with the people around us. Join us at Keoki’s Paradise and Talk Story to Mālama O Ka ‘Āina (to respect and care for the land)\, an educational enrichment program cultivating the awareness of important environmental issues around Kaua‘i. \nReservation Required. Call Keoki’s Paradise in Po‘ipū at 808-742-7534 to save your spot. \nSeating begins at 11 a.m. and the event will run from 11 a.m. – 1 p.m. with the formal presentation beginning at 11:30 a.m.
URL:https://www.keokisparadise.com/event/protect-manage-conserve-our-aquatic-resources/
LOCATION:2335 Kalakaua Ave #203\, Honolulu\, HI\, 96815\, United States
ATTACH;FMTTYPE=image/jpeg:https://www.keokisparadise.com/wp-content/uploads/2022/06/Aquatic-Resources-1.jpg
GEO:21.2771844;-157.8275909
X-APPLE-STRUCTURED-LOCATION;VALUE=URI;X-ADDRESS=2335 Kalakaua Ave #203 Honolulu HI 96815 United States;X-APPLE-RADIUS=500;X-TITLE=2335 Kalakaua Ave #203:geo:-157.8275909,21.2771844
END:VEVENT
END:VCALENDAR