BEGIN:VCALENDAR
VERSION:2.0
PRODID:-//Keoki&#039;s Paradise - ECPv6.15.5//NONSGML v1.0//EN
CALSCALE:GREGORIAN
METHOD:PUBLISH
X-WR-CALNAME:Keoki&#039;s Paradise
X-ORIGINAL-URL:https://www.keokisparadise.com
X-WR-CALDESC:Events for Keoki&#039;s Paradise
REFRESH-INTERVAL;VALUE=DURATION:PT1H
X-Robots-Tag:noindex
X-PUBLISHED-TTL:PT1H
BEGIN:VTIMEZONE
TZID:Pacific/Honolulu
BEGIN:STANDARD
TZOFFSETFROM:-1000
TZOFFSETTO:-1000
TZNAME:HST
DTSTART:20260101T000000
END:STANDARD
END:VTIMEZONE
BEGIN:VEVENT
DTSTART;TZID=Pacific/Honolulu:20261008T173000
DTEND;TZID=Pacific/Honolulu:20261008T190000
DTSTAMP:20260421T043627
CREATED:20240605T195538Z
LAST-MODIFIED:20240605T195538Z
UID:11104-1791480600-1791486000@www.keokisparadise.com
SUMMARY:Live Entertainment: Kawai
DESCRIPTION:Enjoy live entertainment by Kawai every Thursday from 5:30pm – 7:00pm.
URL:https://www.keokisparadise.com/event/live-entertainment-kawai/2026-10-08/
LOCATION:Keoki’s Paradise\, 2360 Kiahuna Plantation Drive Ste. 77\, Koloa\, HI\, 96756\, United States
CATEGORIES:Live Entertainment,Weekly Happenings
ATTACH;FMTTYPE=image/jpeg:https://www.keokisparadise.com/wp-content/uploads/2018/11/Live-Entertainment-Happenings-2-Keokis.jpg
GEO:21.8792005406;-159.459765347
X-APPLE-STRUCTURED-LOCATION;VALUE=URI;X-ADDRESS=Keoki’s Paradise 2360 Kiahuna Plantation Drive Ste. 77 Koloa HI 96756 United States;X-APPLE-RADIUS=500;X-TITLE=2360 Kiahuna Plantation Drive Ste. 77:geo:-159.459765347,21.8792005406
END:VEVENT
BEGIN:VEVENT
DTSTART;TZID=Pacific/Honolulu:20261015T173000
DTEND;TZID=Pacific/Honolulu:20261015T190000
DTSTAMP:20260421T043627
CREATED:20240605T195538Z
LAST-MODIFIED:20240605T195538Z
UID:11115-1792085400-1792090800@www.keokisparadise.com
SUMMARY:Live Entertainment: Kawai
DESCRIPTION:Enjoy live entertainment by Kawai every Thursday from 5:30pm – 7:00pm.
URL:https://www.keokisparadise.com/event/live-entertainment-kawai/2026-10-15/
LOCATION:Keoki’s Paradise\, 2360 Kiahuna Plantation Drive Ste. 77\, Koloa\, HI\, 96756\, United States
CATEGORIES:Live Entertainment,Weekly Happenings
ATTACH;FMTTYPE=image/jpeg:https://www.keokisparadise.com/wp-content/uploads/2018/11/Live-Entertainment-Happenings-2-Keokis.jpg
GEO:21.8792005406;-159.459765347
X-APPLE-STRUCTURED-LOCATION;VALUE=URI;X-ADDRESS=Keoki’s Paradise 2360 Kiahuna Plantation Drive Ste. 77 Koloa HI 96756 United States;X-APPLE-RADIUS=500;X-TITLE=2360 Kiahuna Plantation Drive Ste. 77:geo:-159.459765347,21.8792005406
END:VEVENT
BEGIN:VEVENT
DTSTART;TZID=Pacific/Honolulu:20261022T173000
DTEND;TZID=Pacific/Honolulu:20261022T190000
DTSTAMP:20260421T043627
CREATED:20240605T195538Z
LAST-MODIFIED:20240605T195538Z
UID:11126-1792690200-1792695600@www.keokisparadise.com
SUMMARY:Live Entertainment: Kawai
DESCRIPTION:Enjoy live entertainment by Kawai every Thursday from 5:30pm – 7:00pm.
URL:https://www.keokisparadise.com/event/live-entertainment-kawai/2026-10-22/
LOCATION:Keoki’s Paradise\, 2360 Kiahuna Plantation Drive Ste. 77\, Koloa\, HI\, 96756\, United States
CATEGORIES:Live Entertainment,Weekly Happenings
ATTACH;FMTTYPE=image/jpeg:https://www.keokisparadise.com/wp-content/uploads/2018/11/Live-Entertainment-Happenings-2-Keokis.jpg
GEO:21.8792005406;-159.459765347
X-APPLE-STRUCTURED-LOCATION;VALUE=URI;X-ADDRESS=Keoki’s Paradise 2360 Kiahuna Plantation Drive Ste. 77 Koloa HI 96756 United States;X-APPLE-RADIUS=500;X-TITLE=2360 Kiahuna Plantation Drive Ste. 77:geo:-159.459765347,21.8792005406
END:VEVENT
BEGIN:VEVENT
DTSTART;TZID=Pacific/Honolulu:20261029T173000
DTEND;TZID=Pacific/Honolulu:20261029T190000
DTSTAMP:20260421T043627
CREATED:20240605T195538Z
LAST-MODIFIED:20240605T195538Z
UID:11137-1793295000-1793300400@www.keokisparadise.com
SUMMARY:Live Entertainment: Kawai
DESCRIPTION:Enjoy live entertainment by Kawai every Thursday from 5:30pm – 7:00pm.
URL:https://www.keokisparadise.com/event/live-entertainment-kawai/2026-10-29/
LOCATION:Keoki’s Paradise\, 2360 Kiahuna Plantation Drive Ste. 77\, Koloa\, HI\, 96756\, United States
CATEGORIES:Live Entertainment,Weekly Happenings
ATTACH;FMTTYPE=image/jpeg:https://www.keokisparadise.com/wp-content/uploads/2018/11/Live-Entertainment-Happenings-2-Keokis.jpg
GEO:21.8792005406;-159.459765347
X-APPLE-STRUCTURED-LOCATION;VALUE=URI;X-ADDRESS=Keoki’s Paradise 2360 Kiahuna Plantation Drive Ste. 77 Koloa HI 96756 United States;X-APPLE-RADIUS=500;X-TITLE=2360 Kiahuna Plantation Drive Ste. 77:geo:-159.459765347,21.8792005406
END:VEVENT
BEGIN:VEVENT
DTSTART;TZID=Pacific/Honolulu:20261105T173000
DTEND;TZID=Pacific/Honolulu:20261105T190000
DTSTAMP:20260421T043627
CREATED:20240605T195538Z
LAST-MODIFIED:20240605T195538Z
UID:11148-1793899800-1793905200@www.keokisparadise.com
SUMMARY:Live Entertainment: Kawai
DESCRIPTION:Enjoy live entertainment by Kawai every Thursday from 5:30pm – 7:00pm.
URL:https://www.keokisparadise.com/event/live-entertainment-kawai/2026-11-05/
LOCATION:Keoki’s Paradise\, 2360 Kiahuna Plantation Drive Ste. 77\, Koloa\, HI\, 96756\, United States
CATEGORIES:Live Entertainment,Weekly Happenings
ATTACH;FMTTYPE=image/jpeg:https://www.keokisparadise.com/wp-content/uploads/2018/11/Live-Entertainment-Happenings-2-Keokis.jpg
GEO:21.8792005406;-159.459765347
X-APPLE-STRUCTURED-LOCATION;VALUE=URI;X-ADDRESS=Keoki’s Paradise 2360 Kiahuna Plantation Drive Ste. 77 Koloa HI 96756 United States;X-APPLE-RADIUS=500;X-TITLE=2360 Kiahuna Plantation Drive Ste. 77:geo:-159.459765347,21.8792005406
END:VEVENT
BEGIN:VEVENT
DTSTART;TZID=Pacific/Honolulu:20261112T173000
DTEND;TZID=Pacific/Honolulu:20261112T190000
DTSTAMP:20260421T043627
CREATED:20240605T195538Z
LAST-MODIFIED:20240605T195538Z
UID:11159-1794504600-1794510000@www.keokisparadise.com
SUMMARY:Live Entertainment: Kawai
DESCRIPTION:Enjoy live entertainment by Kawai every Thursday from 5:30pm – 7:00pm.
URL:https://www.keokisparadise.com/event/live-entertainment-kawai/2026-11-12/
LOCATION:Keoki’s Paradise\, 2360 Kiahuna Plantation Drive Ste. 77\, Koloa\, HI\, 96756\, United States
CATEGORIES:Live Entertainment,Weekly Happenings
ATTACH;FMTTYPE=image/jpeg:https://www.keokisparadise.com/wp-content/uploads/2018/11/Live-Entertainment-Happenings-2-Keokis.jpg
GEO:21.8792005406;-159.459765347
X-APPLE-STRUCTURED-LOCATION;VALUE=URI;X-ADDRESS=Keoki’s Paradise 2360 Kiahuna Plantation Drive Ste. 77 Koloa HI 96756 United States;X-APPLE-RADIUS=500;X-TITLE=2360 Kiahuna Plantation Drive Ste. 77:geo:-159.459765347,21.8792005406
END:VEVENT
BEGIN:VEVENT
DTSTART;TZID=Pacific/Honolulu:20261119T173000
DTEND;TZID=Pacific/Honolulu:20261119T190000
DTSTAMP:20260421T043627
CREATED:20240605T195538Z
LAST-MODIFIED:20240605T195538Z
UID:11173-1795109400-1795114800@www.keokisparadise.com
SUMMARY:Live Entertainment: Kawai
DESCRIPTION:Enjoy live entertainment by Kawai every Thursday from 5:30pm – 7:00pm.
URL:https://www.keokisparadise.com/event/live-entertainment-kawai/2026-11-19/
LOCATION:Keoki’s Paradise\, 2360 Kiahuna Plantation Drive Ste. 77\, Koloa\, HI\, 96756\, United States
CATEGORIES:Live Entertainment,Weekly Happenings
ATTACH;FMTTYPE=image/jpeg:https://www.keokisparadise.com/wp-content/uploads/2018/11/Live-Entertainment-Happenings-2-Keokis.jpg
GEO:21.8792005406;-159.459765347
X-APPLE-STRUCTURED-LOCATION;VALUE=URI;X-ADDRESS=Keoki’s Paradise 2360 Kiahuna Plantation Drive Ste. 77 Koloa HI 96756 United States;X-APPLE-RADIUS=500;X-TITLE=2360 Kiahuna Plantation Drive Ste. 77:geo:-159.459765347,21.8792005406
END:VEVENT
BEGIN:VEVENT
DTSTART;TZID=Pacific/Honolulu:20261126T173000
DTEND;TZID=Pacific/Honolulu:20261126T190000
DTSTAMP:20260421T043627
CREATED:20240605T195538Z
LAST-MODIFIED:20240605T195538Z
UID:11189-1795714200-1795719600@www.keokisparadise.com
SUMMARY:Live Entertainment: Kawai
DESCRIPTION:Enjoy live entertainment by Kawai every Thursday from 5:30pm – 7:00pm.
URL:https://www.keokisparadise.com/event/live-entertainment-kawai/2026-11-26/
LOCATION:Keoki’s Paradise\, 2360 Kiahuna Plantation Drive Ste. 77\, Koloa\, HI\, 96756\, United States
CATEGORIES:Live Entertainment,Weekly Happenings
ATTACH;FMTTYPE=image/jpeg:https://www.keokisparadise.com/wp-content/uploads/2018/11/Live-Entertainment-Happenings-2-Keokis.jpg
GEO:21.8792005406;-159.459765347
X-APPLE-STRUCTURED-LOCATION;VALUE=URI;X-ADDRESS=Keoki’s Paradise 2360 Kiahuna Plantation Drive Ste. 77 Koloa HI 96756 United States;X-APPLE-RADIUS=500;X-TITLE=2360 Kiahuna Plantation Drive Ste. 77:geo:-159.459765347,21.8792005406
END:VEVENT
BEGIN:VEVENT
DTSTART;TZID=Pacific/Honolulu:20261203T173000
DTEND;TZID=Pacific/Honolulu:20261203T190000
DTSTAMP:20260421T043627
CREATED:20240605T195538Z
LAST-MODIFIED:20240605T195538Z
UID:11200-1796319000-1796324400@www.keokisparadise.com
SUMMARY:Live Entertainment: Kawai
DESCRIPTION:Enjoy live entertainment by Kawai every Thursday from 5:30pm – 7:00pm.
URL:https://www.keokisparadise.com/event/live-entertainment-kawai/2026-12-03/
LOCATION:Keoki’s Paradise\, 2360 Kiahuna Plantation Drive Ste. 77\, Koloa\, HI\, 96756\, United States
CATEGORIES:Live Entertainment,Weekly Happenings
ATTACH;FMTTYPE=image/jpeg:https://www.keokisparadise.com/wp-content/uploads/2018/11/Live-Entertainment-Happenings-2-Keokis.jpg
GEO:21.8792005406;-159.459765347
X-APPLE-STRUCTURED-LOCATION;VALUE=URI;X-ADDRESS=Keoki’s Paradise 2360 Kiahuna Plantation Drive Ste. 77 Koloa HI 96756 United States;X-APPLE-RADIUS=500;X-TITLE=2360 Kiahuna Plantation Drive Ste. 77:geo:-159.459765347,21.8792005406
END:VEVENT
BEGIN:VEVENT
DTSTART;TZID=Pacific/Honolulu:20261210T173000
DTEND;TZID=Pacific/Honolulu:20261210T190000
DTSTAMP:20260421T043627
CREATED:20240605T195538Z
LAST-MODIFIED:20240605T195538Z
UID:11212-1796923800-1796929200@www.keokisparadise.com
SUMMARY:Live Entertainment: Kawai
DESCRIPTION:Enjoy live entertainment by Kawai every Thursday from 5:30pm – 7:00pm.
URL:https://www.keokisparadise.com/event/live-entertainment-kawai/2026-12-10/
LOCATION:Keoki’s Paradise\, 2360 Kiahuna Plantation Drive Ste. 77\, Koloa\, HI\, 96756\, United States
CATEGORIES:Live Entertainment,Weekly Happenings
ATTACH;FMTTYPE=image/jpeg:https://www.keokisparadise.com/wp-content/uploads/2018/11/Live-Entertainment-Happenings-2-Keokis.jpg
GEO:21.8792005406;-159.459765347
X-APPLE-STRUCTURED-LOCATION;VALUE=URI;X-ADDRESS=Keoki’s Paradise 2360 Kiahuna Plantation Drive Ste. 77 Koloa HI 96756 United States;X-APPLE-RADIUS=500;X-TITLE=2360 Kiahuna Plantation Drive Ste. 77:geo:-159.459765347,21.8792005406
END:VEVENT
BEGIN:VEVENT
DTSTART;TZID=Pacific/Honolulu:20261217T173000
DTEND;TZID=Pacific/Honolulu:20261217T190000
DTSTAMP:20260421T043627
CREATED:20240605T195538Z
LAST-MODIFIED:20240605T195538Z
UID:11228-1797528600-1797534000@www.keokisparadise.com
SUMMARY:Live Entertainment: Kawai
DESCRIPTION:Enjoy live entertainment by Kawai every Thursday from 5:30pm – 7:00pm.
URL:https://www.keokisparadise.com/event/live-entertainment-kawai/2026-12-17/
LOCATION:Keoki’s Paradise\, 2360 Kiahuna Plantation Drive Ste. 77\, Koloa\, HI\, 96756\, United States
CATEGORIES:Live Entertainment,Weekly Happenings
ATTACH;FMTTYPE=image/jpeg:https://www.keokisparadise.com/wp-content/uploads/2018/11/Live-Entertainment-Happenings-2-Keokis.jpg
GEO:21.8792005406;-159.459765347
X-APPLE-STRUCTURED-LOCATION;VALUE=URI;X-ADDRESS=Keoki’s Paradise 2360 Kiahuna Plantation Drive Ste. 77 Koloa HI 96756 United States;X-APPLE-RADIUS=500;X-TITLE=2360 Kiahuna Plantation Drive Ste. 77:geo:-159.459765347,21.8792005406
END:VEVENT
BEGIN:VEVENT
DTSTART;TZID=Pacific/Honolulu:20261224T173000
DTEND;TZID=Pacific/Honolulu:20261224T190000
DTSTAMP:20260421T043627
CREATED:20240605T195538Z
LAST-MODIFIED:20240605T195538Z
UID:11239-1798133400-1798138800@www.keokisparadise.com
SUMMARY:Live Entertainment: Kawai
DESCRIPTION:Enjoy live entertainment by Kawai every Thursday from 5:30pm – 7:00pm.
URL:https://www.keokisparadise.com/event/live-entertainment-kawai/2026-12-24/
LOCATION:Keoki’s Paradise\, 2360 Kiahuna Plantation Drive Ste. 77\, Koloa\, HI\, 96756\, United States
CATEGORIES:Live Entertainment,Weekly Happenings
ATTACH;FMTTYPE=image/jpeg:https://www.keokisparadise.com/wp-content/uploads/2018/11/Live-Entertainment-Happenings-2-Keokis.jpg
GEO:21.8792005406;-159.459765347
X-APPLE-STRUCTURED-LOCATION;VALUE=URI;X-ADDRESS=Keoki’s Paradise 2360 Kiahuna Plantation Drive Ste. 77 Koloa HI 96756 United States;X-APPLE-RADIUS=500;X-TITLE=2360 Kiahuna Plantation Drive Ste. 77:geo:-159.459765347,21.8792005406
END:VEVENT
BEGIN:VEVENT
DTSTART;TZID=Pacific/Honolulu:20261231T173000
DTEND;TZID=Pacific/Honolulu:20261231T190000
DTSTAMP:20260421T043627
CREATED:20240605T195538Z
LAST-MODIFIED:20240605T195538Z
UID:11250-1798738200-1798743600@www.keokisparadise.com
SUMMARY:Live Entertainment: Kawai
DESCRIPTION:Enjoy live entertainment by Kawai every Thursday from 5:30pm – 7:00pm.
URL:https://www.keokisparadise.com/event/live-entertainment-kawai/2026-12-31/
LOCATION:Keoki’s Paradise\, 2360 Kiahuna Plantation Drive Ste. 77\, Koloa\, HI\, 96756\, United States
CATEGORIES:Live Entertainment,Weekly Happenings
ATTACH;FMTTYPE=image/jpeg:https://www.keokisparadise.com/wp-content/uploads/2018/11/Live-Entertainment-Happenings-2-Keokis.jpg
GEO:21.8792005406;-159.459765347
X-APPLE-STRUCTURED-LOCATION;VALUE=URI;X-ADDRESS=Keoki’s Paradise 2360 Kiahuna Plantation Drive Ste. 77 Koloa HI 96756 United States;X-APPLE-RADIUS=500;X-TITLE=2360 Kiahuna Plantation Drive Ste. 77:geo:-159.459765347,21.8792005406
END:VEVENT
BEGIN:VEVENT
DTSTART;TZID=Pacific/Honolulu:20270107T173000
DTEND;TZID=Pacific/Honolulu:20270107T190000
DTSTAMP:20260421T043627
CREATED:20240605T195538Z
LAST-MODIFIED:20240605T195538Z
UID:11262-1799343000-1799348400@www.keokisparadise.com
SUMMARY:Live Entertainment: Kawai
DESCRIPTION:Enjoy live entertainment by Kawai every Thursday from 5:30pm – 7:00pm.
URL:https://www.keokisparadise.com/event/live-entertainment-kawai/2027-01-07/
LOCATION:Keoki’s Paradise\, 2360 Kiahuna Plantation Drive Ste. 77\, Koloa\, HI\, 96756\, United States
CATEGORIES:Live Entertainment,Weekly Happenings
ATTACH;FMTTYPE=image/jpeg:https://www.keokisparadise.com/wp-content/uploads/2018/11/Live-Entertainment-Happenings-2-Keokis.jpg
GEO:21.8792005406;-159.459765347
X-APPLE-STRUCTURED-LOCATION;VALUE=URI;X-ADDRESS=Keoki’s Paradise 2360 Kiahuna Plantation Drive Ste. 77 Koloa HI 96756 United States;X-APPLE-RADIUS=500;X-TITLE=2360 Kiahuna Plantation Drive Ste. 77:geo:-159.459765347,21.8792005406
END:VEVENT
BEGIN:VEVENT
DTSTART;TZID=Pacific/Honolulu:20270114T173000
DTEND;TZID=Pacific/Honolulu:20270114T190000
DTSTAMP:20260421T043627
CREATED:20240605T195538Z
LAST-MODIFIED:20240605T195538Z
UID:11273-1799947800-1799953200@www.keokisparadise.com
SUMMARY:Live Entertainment: Kawai
DESCRIPTION:Enjoy live entertainment by Kawai every Thursday from 5:30pm – 7:00pm.
URL:https://www.keokisparadise.com/event/live-entertainment-kawai/2027-01-14/
LOCATION:Keoki’s Paradise\, 2360 Kiahuna Plantation Drive Ste. 77\, Koloa\, HI\, 96756\, United States
CATEGORIES:Live Entertainment,Weekly Happenings
ATTACH;FMTTYPE=image/jpeg:https://www.keokisparadise.com/wp-content/uploads/2018/11/Live-Entertainment-Happenings-2-Keokis.jpg
GEO:21.8792005406;-159.459765347
X-APPLE-STRUCTURED-LOCATION;VALUE=URI;X-ADDRESS=Keoki’s Paradise 2360 Kiahuna Plantation Drive Ste. 77 Koloa HI 96756 United States;X-APPLE-RADIUS=500;X-TITLE=2360 Kiahuna Plantation Drive Ste. 77:geo:-159.459765347,21.8792005406
END:VEVENT
BEGIN:VEVENT
DTSTART;TZID=Pacific/Honolulu:20270121T173000
DTEND;TZID=Pacific/Honolulu:20270121T190000
DTSTAMP:20260421T043627
CREATED:20240605T195538Z
LAST-MODIFIED:20240605T195538Z
UID:11284-1800552600-1800558000@www.keokisparadise.com
SUMMARY:Live Entertainment: Kawai
DESCRIPTION:Enjoy live entertainment by Kawai every Thursday from 5:30pm – 7:00pm.
URL:https://www.keokisparadise.com/event/live-entertainment-kawai/2027-01-21/
LOCATION:Keoki’s Paradise\, 2360 Kiahuna Plantation Drive Ste. 77\, Koloa\, HI\, 96756\, United States
CATEGORIES:Live Entertainment,Weekly Happenings
ATTACH;FMTTYPE=image/jpeg:https://www.keokisparadise.com/wp-content/uploads/2018/11/Live-Entertainment-Happenings-2-Keokis.jpg
GEO:21.8792005406;-159.459765347
X-APPLE-STRUCTURED-LOCATION;VALUE=URI;X-ADDRESS=Keoki’s Paradise 2360 Kiahuna Plantation Drive Ste. 77 Koloa HI 96756 United States;X-APPLE-RADIUS=500;X-TITLE=2360 Kiahuna Plantation Drive Ste. 77:geo:-159.459765347,21.8792005406
END:VEVENT
BEGIN:VEVENT
DTSTART;TZID=Pacific/Honolulu:20270128T173000
DTEND;TZID=Pacific/Honolulu:20270128T190000
DTSTAMP:20260421T043627
CREATED:20240605T195538Z
LAST-MODIFIED:20240605T195538Z
UID:11296-1801157400-1801162800@www.keokisparadise.com
SUMMARY:Live Entertainment: Kawai
DESCRIPTION:Enjoy live entertainment by Kawai every Thursday from 5:30pm – 7:00pm.
URL:https://www.keokisparadise.com/event/live-entertainment-kawai/2027-01-28/
LOCATION:Keoki’s Paradise\, 2360 Kiahuna Plantation Drive Ste. 77\, Koloa\, HI\, 96756\, United States
CATEGORIES:Live Entertainment,Weekly Happenings
ATTACH;FMTTYPE=image/jpeg:https://www.keokisparadise.com/wp-content/uploads/2018/11/Live-Entertainment-Happenings-2-Keokis.jpg
GEO:21.8792005406;-159.459765347
X-APPLE-STRUCTURED-LOCATION;VALUE=URI;X-ADDRESS=Keoki’s Paradise 2360 Kiahuna Plantation Drive Ste. 77 Koloa HI 96756 United States;X-APPLE-RADIUS=500;X-TITLE=2360 Kiahuna Plantation Drive Ste. 77:geo:-159.459765347,21.8792005406
END:VEVENT
BEGIN:VEVENT
DTSTART;TZID=Pacific/Honolulu:20270204T173000
DTEND;TZID=Pacific/Honolulu:20270204T190000
DTSTAMP:20260421T043627
CREATED:20240605T195538Z
LAST-MODIFIED:20240605T195538Z
UID:11381-1801762200-1801767600@www.keokisparadise.com
SUMMARY:Live Entertainment: Kawai
DESCRIPTION:Enjoy live entertainment by Kawai every Thursday from 5:30pm – 7:00pm.
URL:https://www.keokisparadise.com/event/live-entertainment-kawai/2027-02-04/
LOCATION:Keoki’s Paradise\, 2360 Kiahuna Plantation Drive Ste. 77\, Koloa\, HI\, 96756\, United States
CATEGORIES:Live Entertainment,Weekly Happenings
ATTACH;FMTTYPE=image/jpeg:https://www.keokisparadise.com/wp-content/uploads/2018/11/Live-Entertainment-Happenings-2-Keokis.jpg
GEO:21.8792005406;-159.459765347
X-APPLE-STRUCTURED-LOCATION;VALUE=URI;X-ADDRESS=Keoki’s Paradise 2360 Kiahuna Plantation Drive Ste. 77 Koloa HI 96756 United States;X-APPLE-RADIUS=500;X-TITLE=2360 Kiahuna Plantation Drive Ste. 77:geo:-159.459765347,21.8792005406
END:VEVENT
BEGIN:VEVENT
DTSTART;TZID=Pacific/Honolulu:20270211T173000
DTEND;TZID=Pacific/Honolulu:20270211T190000
DTSTAMP:20260421T043627
CREATED:20240605T195538Z
LAST-MODIFIED:20240605T195538Z
UID:11393-1802367000-1802372400@www.keokisparadise.com
SUMMARY:Live Entertainment: Kawai
DESCRIPTION:Enjoy live entertainment by Kawai every Thursday from 5:30pm – 7:00pm.
URL:https://www.keokisparadise.com/event/live-entertainment-kawai/2027-02-11/
LOCATION:Keoki’s Paradise\, 2360 Kiahuna Plantation Drive Ste. 77\, Koloa\, HI\, 96756\, United States
CATEGORIES:Live Entertainment,Weekly Happenings
ATTACH;FMTTYPE=image/jpeg:https://www.keokisparadise.com/wp-content/uploads/2018/11/Live-Entertainment-Happenings-2-Keokis.jpg
GEO:21.8792005406;-159.459765347
X-APPLE-STRUCTURED-LOCATION;VALUE=URI;X-ADDRESS=Keoki’s Paradise 2360 Kiahuna Plantation Drive Ste. 77 Koloa HI 96756 United States;X-APPLE-RADIUS=500;X-TITLE=2360 Kiahuna Plantation Drive Ste. 77:geo:-159.459765347,21.8792005406
END:VEVENT
BEGIN:VEVENT
DTSTART;TZID=Pacific/Honolulu:20270218T173000
DTEND;TZID=Pacific/Honolulu:20270218T190000
DTSTAMP:20260421T043627
CREATED:20240605T195538Z
LAST-MODIFIED:20240605T195538Z
UID:11404-1802971800-1802977200@www.keokisparadise.com
SUMMARY:Live Entertainment: Kawai
DESCRIPTION:Enjoy live entertainment by Kawai every Thursday from 5:30pm – 7:00pm.
URL:https://www.keokisparadise.com/event/live-entertainment-kawai/2027-02-18/
LOCATION:Keoki’s Paradise\, 2360 Kiahuna Plantation Drive Ste. 77\, Koloa\, HI\, 96756\, United States
CATEGORIES:Live Entertainment,Weekly Happenings
ATTACH;FMTTYPE=image/jpeg:https://www.keokisparadise.com/wp-content/uploads/2018/11/Live-Entertainment-Happenings-2-Keokis.jpg
GEO:21.8792005406;-159.459765347
X-APPLE-STRUCTURED-LOCATION;VALUE=URI;X-ADDRESS=Keoki’s Paradise 2360 Kiahuna Plantation Drive Ste. 77 Koloa HI 96756 United States;X-APPLE-RADIUS=500;X-TITLE=2360 Kiahuna Plantation Drive Ste. 77:geo:-159.459765347,21.8792005406
END:VEVENT
BEGIN:VEVENT
DTSTART;TZID=Pacific/Honolulu:20270225T173000
DTEND;TZID=Pacific/Honolulu:20270225T190000
DTSTAMP:20260421T043627
CREATED:20240605T195538Z
LAST-MODIFIED:20240605T195538Z
UID:11416-1803576600-1803582000@www.keokisparadise.com
SUMMARY:Live Entertainment: Kawai
DESCRIPTION:Enjoy live entertainment by Kawai every Thursday from 5:30pm – 7:00pm.
URL:https://www.keokisparadise.com/event/live-entertainment-kawai/2027-02-25/
LOCATION:Keoki’s Paradise\, 2360 Kiahuna Plantation Drive Ste. 77\, Koloa\, HI\, 96756\, United States
CATEGORIES:Live Entertainment,Weekly Happenings
ATTACH;FMTTYPE=image/jpeg:https://www.keokisparadise.com/wp-content/uploads/2018/11/Live-Entertainment-Happenings-2-Keokis.jpg
GEO:21.8792005406;-159.459765347
X-APPLE-STRUCTURED-LOCATION;VALUE=URI;X-ADDRESS=Keoki’s Paradise 2360 Kiahuna Plantation Drive Ste. 77 Koloa HI 96756 United States;X-APPLE-RADIUS=500;X-TITLE=2360 Kiahuna Plantation Drive Ste. 77:geo:-159.459765347,21.8792005406
END:VEVENT
BEGIN:VEVENT
DTSTART;TZID=Pacific/Honolulu:20270304T173000
DTEND;TZID=Pacific/Honolulu:20270304T190000
DTSTAMP:20260421T043627
CREATED:20240605T195538Z
LAST-MODIFIED:20240605T195538Z
UID:11428-1804181400-1804186800@www.keokisparadise.com
SUMMARY:Live Entertainment: Kawai
DESCRIPTION:Enjoy live entertainment by Kawai every Thursday from 5:30pm – 7:00pm.
URL:https://www.keokisparadise.com/event/live-entertainment-kawai/2027-03-04/
LOCATION:Keoki’s Paradise\, 2360 Kiahuna Plantation Drive Ste. 77\, Koloa\, HI\, 96756\, United States
CATEGORIES:Live Entertainment,Weekly Happenings
ATTACH;FMTTYPE=image/jpeg:https://www.keokisparadise.com/wp-content/uploads/2018/11/Live-Entertainment-Happenings-2-Keokis.jpg
GEO:21.8792005406;-159.459765347
X-APPLE-STRUCTURED-LOCATION;VALUE=URI;X-ADDRESS=Keoki’s Paradise 2360 Kiahuna Plantation Drive Ste. 77 Koloa HI 96756 United States;X-APPLE-RADIUS=500;X-TITLE=2360 Kiahuna Plantation Drive Ste. 77:geo:-159.459765347,21.8792005406
END:VEVENT
BEGIN:VEVENT
DTSTART;TZID=Pacific/Honolulu:20270311T173000
DTEND;TZID=Pacific/Honolulu:20270311T190000
DTSTAMP:20260421T043627
CREATED:20240605T195538Z
LAST-MODIFIED:20240605T195538Z
UID:11675-1804786200-1804791600@www.keokisparadise.com
SUMMARY:Live Entertainment: Kawai
DESCRIPTION:Enjoy live entertainment by Kawai every Thursday from 5:30pm – 7:00pm.
URL:https://www.keokisparadise.com/event/live-entertainment-kawai/2027-03-11/
LOCATION:Keoki’s Paradise\, 2360 Kiahuna Plantation Drive Ste. 77\, Koloa\, HI\, 96756\, United States
CATEGORIES:Live Entertainment,Weekly Happenings
ATTACH;FMTTYPE=image/jpeg:https://www.keokisparadise.com/wp-content/uploads/2018/11/Live-Entertainment-Happenings-2-Keokis.jpg
GEO:21.8792005406;-159.459765347
X-APPLE-STRUCTURED-LOCATION;VALUE=URI;X-ADDRESS=Keoki’s Paradise 2360 Kiahuna Plantation Drive Ste. 77 Koloa HI 96756 United States;X-APPLE-RADIUS=500;X-TITLE=2360 Kiahuna Plantation Drive Ste. 77:geo:-159.459765347,21.8792005406
END:VEVENT
BEGIN:VEVENT
DTSTART;TZID=Pacific/Honolulu:20270318T173000
DTEND;TZID=Pacific/Honolulu:20270318T190000
DTSTAMP:20260421T043627
CREATED:20240605T195538Z
LAST-MODIFIED:20240605T195538Z
UID:11690-1805391000-1805396400@www.keokisparadise.com
SUMMARY:Live Entertainment: Kawai
DESCRIPTION:Enjoy live entertainment by Kawai every Thursday from 5:30pm – 7:00pm.
URL:https://www.keokisparadise.com/event/live-entertainment-kawai/2027-03-18/
LOCATION:Keoki’s Paradise\, 2360 Kiahuna Plantation Drive Ste. 77\, Koloa\, HI\, 96756\, United States
CATEGORIES:Live Entertainment,Weekly Happenings
ATTACH;FMTTYPE=image/jpeg:https://www.keokisparadise.com/wp-content/uploads/2018/11/Live-Entertainment-Happenings-2-Keokis.jpg
GEO:21.8792005406;-159.459765347
X-APPLE-STRUCTURED-LOCATION;VALUE=URI;X-ADDRESS=Keoki’s Paradise 2360 Kiahuna Plantation Drive Ste. 77 Koloa HI 96756 United States;X-APPLE-RADIUS=500;X-TITLE=2360 Kiahuna Plantation Drive Ste. 77:geo:-159.459765347,21.8792005406
END:VEVENT
BEGIN:VEVENT
DTSTART;TZID=Pacific/Honolulu:20270325T173000
DTEND;TZID=Pacific/Honolulu:20270325T190000
DTSTAMP:20260421T043627
CREATED:20240605T195538Z
LAST-MODIFIED:20240605T195538Z
UID:11707-1805995800-1806001200@www.keokisparadise.com
SUMMARY:Live Entertainment: Kawai
DESCRIPTION:Enjoy live entertainment by Kawai every Thursday from 5:30pm – 7:00pm.
URL:https://www.keokisparadise.com/event/live-entertainment-kawai/2027-03-25/
LOCATION:Keoki’s Paradise\, 2360 Kiahuna Plantation Drive Ste. 77\, Koloa\, HI\, 96756\, United States
CATEGORIES:Live Entertainment,Weekly Happenings
ATTACH;FMTTYPE=image/jpeg:https://www.keokisparadise.com/wp-content/uploads/2018/11/Live-Entertainment-Happenings-2-Keokis.jpg
GEO:21.8792005406;-159.459765347
X-APPLE-STRUCTURED-LOCATION;VALUE=URI;X-ADDRESS=Keoki’s Paradise 2360 Kiahuna Plantation Drive Ste. 77 Koloa HI 96756 United States;X-APPLE-RADIUS=500;X-TITLE=2360 Kiahuna Plantation Drive Ste. 77:geo:-159.459765347,21.8792005406
END:VEVENT
BEGIN:VEVENT
DTSTART;TZID=Pacific/Honolulu:20270401T173000
DTEND;TZID=Pacific/Honolulu:20270401T190000
DTSTAMP:20260421T043627
CREATED:20240605T195538Z
LAST-MODIFIED:20240605T195538Z
UID:11722-1806600600-1806606000@www.keokisparadise.com
SUMMARY:Live Entertainment: Kawai
DESCRIPTION:Enjoy live entertainment by Kawai every Thursday from 5:30pm – 7:00pm.
URL:https://www.keokisparadise.com/event/live-entertainment-kawai/2027-04-01/
LOCATION:Keoki’s Paradise\, 2360 Kiahuna Plantation Drive Ste. 77\, Koloa\, HI\, 96756\, United States
CATEGORIES:Live Entertainment,Weekly Happenings
ATTACH;FMTTYPE=image/jpeg:https://www.keokisparadise.com/wp-content/uploads/2018/11/Live-Entertainment-Happenings-2-Keokis.jpg
GEO:21.8792005406;-159.459765347
X-APPLE-STRUCTURED-LOCATION;VALUE=URI;X-ADDRESS=Keoki’s Paradise 2360 Kiahuna Plantation Drive Ste. 77 Koloa HI 96756 United States;X-APPLE-RADIUS=500;X-TITLE=2360 Kiahuna Plantation Drive Ste. 77:geo:-159.459765347,21.8792005406
END:VEVENT
BEGIN:VEVENT
DTSTART;TZID=Pacific/Honolulu:20270408T173000
DTEND;TZID=Pacific/Honolulu:20270408T190000
DTSTAMP:20260421T043627
CREATED:20240605T195538Z
LAST-MODIFIED:20240605T195538Z
UID:11739-1807205400-1807210800@www.keokisparadise.com
SUMMARY:Live Entertainment: Kawai
DESCRIPTION:Enjoy live entertainment by Kawai every Thursday from 5:30pm – 7:00pm.
URL:https://www.keokisparadise.com/event/live-entertainment-kawai/2027-04-08/
LOCATION:Keoki’s Paradise\, 2360 Kiahuna Plantation Drive Ste. 77\, Koloa\, HI\, 96756\, United States
CATEGORIES:Live Entertainment,Weekly Happenings
ATTACH;FMTTYPE=image/jpeg:https://www.keokisparadise.com/wp-content/uploads/2018/11/Live-Entertainment-Happenings-2-Keokis.jpg
GEO:21.8792005406;-159.459765347
X-APPLE-STRUCTURED-LOCATION;VALUE=URI;X-ADDRESS=Keoki’s Paradise 2360 Kiahuna Plantation Drive Ste. 77 Koloa HI 96756 United States;X-APPLE-RADIUS=500;X-TITLE=2360 Kiahuna Plantation Drive Ste. 77:geo:-159.459765347,21.8792005406
END:VEVENT
BEGIN:VEVENT
DTSTART;TZID=Pacific/Honolulu:20270415T173000
DTEND;TZID=Pacific/Honolulu:20270415T190000
DTSTAMP:20260421T043627
CREATED:20240605T195538Z
LAST-MODIFIED:20240605T195538Z
UID:11754-1807810200-1807815600@www.keokisparadise.com
SUMMARY:Live Entertainment: Kawai
DESCRIPTION:Enjoy live entertainment by Kawai every Thursday from 5:30pm – 7:00pm.
URL:https://www.keokisparadise.com/event/live-entertainment-kawai/2027-04-15/
LOCATION:Keoki’s Paradise\, 2360 Kiahuna Plantation Drive Ste. 77\, Koloa\, HI\, 96756\, United States
CATEGORIES:Live Entertainment,Weekly Happenings
ATTACH;FMTTYPE=image/jpeg:https://www.keokisparadise.com/wp-content/uploads/2018/11/Live-Entertainment-Happenings-2-Keokis.jpg
GEO:21.8792005406;-159.459765347
X-APPLE-STRUCTURED-LOCATION;VALUE=URI;X-ADDRESS=Keoki’s Paradise 2360 Kiahuna Plantation Drive Ste. 77 Koloa HI 96756 United States;X-APPLE-RADIUS=500;X-TITLE=2360 Kiahuna Plantation Drive Ste. 77:geo:-159.459765347,21.8792005406
END:VEVENT
END:VCALENDAR