BEGIN:VCALENDAR
VERSION:2.0
PRODID:-//Keoki&#039;s Paradise - ECPv6.15.5//NONSGML v1.0//EN
CALSCALE:GREGORIAN
METHOD:PUBLISH
X-WR-CALNAME:Keoki&#039;s Paradise
X-ORIGINAL-URL:https://www.keokisparadise.com
X-WR-CALDESC:Events for Keoki&#039;s Paradise
REFRESH-INTERVAL;VALUE=DURATION:PT1H
X-Robots-Tag:noindex
X-PUBLISHED-TTL:PT1H
BEGIN:VTIMEZONE
TZID:Pacific/Honolulu
BEGIN:STANDARD
TZOFFSETFROM:-1000
TZOFFSETTO:-1000
TZNAME:HST
DTSTART:20190101T000000
END:STANDARD
END:VTIMEZONE
BEGIN:VEVENT
DTSTART;TZID=Pacific/Honolulu:20190602T173000
DTEND;TZID=Pacific/Honolulu:20190602T220000
DTSTAMP:20260419T230218
CREATED:20190508T131907Z
LAST-MODIFIED:20190508T231952Z
UID:2850-1559496600-1559512800@www.keokisparadise.com
SUMMARY:Live Entertainment
DESCRIPTION:5:30-7:30 – Uncle Joe & Hula Show \n8:00- 10:00 pm- Jojo & Rheif
URL:https://www.keokisparadise.com/event/live-entertainment-16-copy/2019-06-02/
LOCATION:2335 Kalakaua Ave #203\, Honolulu\, HI\, 96815\, United States
CATEGORIES:Live Entertainment
ATTACH;FMTTYPE=image/jpeg:https://www.keokisparadise.com/wp-content/uploads/2018/09/Hula-Dancer_Web.jpg
GEO:21.2771844;-157.8275909
X-APPLE-STRUCTURED-LOCATION;VALUE=URI;X-ADDRESS=2335 Kalakaua Ave #203 Honolulu HI 96815 United States;X-APPLE-RADIUS=500;X-TITLE=2335 Kalakaua Ave #203:geo:-157.8275909,21.2771844
END:VEVENT
END:VCALENDAR